BEGIN:VCALENDAR
VERSION:2.0
PRODID:-//Dr. Phil International Ministries - ECPv6.15.15//NONSGML v1.0//EN
CALSCALE:GREGORIAN
METHOD:PUBLISH
X-ORIGINAL-URL:https://www.drphilministries.org
X-WR-CALDESC:Events for Dr. Phil International Ministries
REFRESH-INTERVAL;VALUE=DURATION:PT1H
X-Robots-Tag:noindex
X-PUBLISHED-TTL:PT1H
BEGIN:VTIMEZONE
TZID:UTC
BEGIN:STANDARD
TZOFFSETFROM:+0000
TZOFFSETTO:+0000
TZNAME:UTC
DTSTART:20190101T000000
END:STANDARD
END:VTIMEZONE
BEGIN:VEVENT
DTSTART;TZID=UTC:20230504T193000
DTEND;TZID=UTC:20230507T193000
DTSTAMP:20260420T053354
CREATED:20230302T120959Z
LAST-MODIFIED:20230302T124155Z
UID:3581-1683228600-1683487800@www.drphilministries.org
SUMMARY:DPM Third Annual Women's Conference Prayer Brunch
DESCRIPTION:[vc_row][vc_column width=”1/2″][vc_column_text]The DPM WOMEN’S CONFERENCE Prayer Brunch is an intimate gathering of like-minded women for a time of prayer\, equipping\, empowering\, encouragement and fellowship. Attendees will experience practical insights on spiritual\, personal\, and professional development from the general sessions as well as peer-to-peer breakout workshops. Come for a day of growth\, purpose clarity\, and fellowship!\nThe Third Annual DPM Women’s Conference Prayer Brunch is a high-energy and inspirational gathering of highly passionate women designed to inspire\, equip and encourage. Attendees will have a chance to network\, build meaningful relationships and become all that God has called them to be. \nPrayer Brunch Date: Saturday\, May 6th\, 2023\nTime: 9:00 AM\nPrice: $100.00 (General Admission Ticket)\nPrice: $150.00 (VIP Ticket)\n[/vc_column_text][vc_column_text]Purchasing a VIP Ticket gives attendees exclusive access to a nightly private reception to mingle with conference guest speakers\, Dr. Phil and Lady Emma. You will also be receiving a complimentary Women’s Conference t-shirt. \nWomen’s Conference Date: Thursday May 4th\, Friday May 5th and Sunday May 7th\, 2023\n[/vc_column_text][/vc_column][vc_column width=”1/2″][vc_single_image image=”3588″ img_size=”full”][/vc_column][/vc_row][vc_row][vc_column][vc_column_text] \nTime: 7:30 PM\nPrice: Free\nThe DPM nightly women’s conference is complimentary. We encourage you to invite your friends and join us\, in person or virtually\, for this exciting event.[/vc_column_text][vc_btn title=”Learn More” style=”custom” custom_background=”#0f6fae” custom_text=”#ffffff” link=”url:https%3A%2F%2Fwww.eventbrite.com%2Fe%2Fdpm-third-annual-womens-conference-prayer-brunch-tickets-551553450217||target:%20_blank|”][/vc_column][/vc_row]
URL:https://www.drphilministries.org/events-calendar/dpm-third-annual-womens-conference-prayer-brunch/
LOCATION:Agape Christian Fellowship 8270 Buckingham Road Fort Myers\, FL 33905 United States\, Agape Christian Fellowship 8270 Buckingham Road Fort Myers\, FL 33905 United States\, FL\, 33905\, United States
END:VEVENT
BEGIN:VEVENT
DTSTART;VALUE=DATE:20220429
DTEND;VALUE=DATE:20220502
DTSTAMP:20260420T053354
CREATED:20220319T075528Z
LAST-MODIFIED:20220321T042806Z
UID:3504-1651190400-1651449599@www.drphilministries.org
SUMMARY:DPM Women's Conference Prayer Brunch
DESCRIPTION:[vc_row css=”.vc_custom_1647677023338{padding-bottom: 50px !important;}”][vc_column width=”1/2″][vc_column_text css=”.vc_custom_1647836876206{margin-bottom: 5px !important;}”] \nWomen’s Conference Date: April 29th-May 1st\, 2022\nTime: 7:30PM\nPrice: Free\nThe DPM nightly women’s conference is complimentary. We encourage you to invite your friends and join us\, in person or virtually\, for this exciting event. \nAn exclusive Prayer Brunch with breakout sessions for all women including a special session for young girls (ages 10-17).[/vc_column_text][vc_column_text css=”.vc_custom_1647836880076{margin-bottom: 5px !important;}”]About this event \nThe DPM WOMEN’S CONFERENCE Prayer Brunch is an intimate gathering of like-minded women for a time of prayer\, equipping\, empowering\, encouragement and fellowship. Attendees will experience practical insights on spiritual\, personal\, and professional development from the general sessions as well as peer-to-peer breakout workshops. Come for a day of growth\, purpose clarity\, and fellowship![/vc_column_text][vc_column_text css=”.vc_custom_1647836884437{margin-bottom: 5px !important;}”]The DPM Women’s Conference Prayer Brunch is a high energy and inspirational gathering of highly passionate women designed to inspire\, equip and encourage. Attendees will have a chance to network\, build meaningful relationships and become all that God has called them to be. \nPrayer Brunch Date: Saturday\, April 30th\, 2022\nTime: 9:00AM\nPrice: $65.00 (General Admission)[/vc_column_text][vc_btn title=”Learn More” style=”custom” custom_background=”#0f6fae” custom_text=”#ffffff” link=”url:https%3A%2F%2Fwww.eventbrite.com%2Fe%2Fdpm-womens-conference-prayer-brunch-tickets-294950774707||target:%20_blank|”][/vc_column][vc_column width=”1/2″][vc_single_image image=”3522″ img_size=”full” onclick=”custom_link” img_link_target=”_blank” link=”https://www.eventbrite.com/e/dpm-womens-conference-prayer-brunch-tickets-294950774707″][/vc_column][/vc_row]
URL:https://www.drphilministries.org/events-calendar/dpm-womens-conference-prayer-brunch/
LOCATION:FL
END:VEVENT
BEGIN:VEVENT
DTSTART;TZID=UTC:20201118T193000
DTEND;TZID=UTC:20201120T233000
DTSTAMP:20260420T053354
CREATED:20201031T045654Z
LAST-MODIFIED:20210729T130404Z
UID:2758-1605727800-1605915000@www.drphilministries.org
SUMMARY:30th Special Anniversary Conference
DESCRIPTION:[vc_row content_placement=”middle”][vc_column width=”1/2″][vc_custom_heading text=”Please join Dr. Phil and the team for 30th special anniversary conference.” font_container=”tag:p|font_size:26|text_align:left|color:%23000000″ use_theme_fonts=”yes” css=”.vc_custom_1604120212262{padding-bottom: 12px !important;}”][/vc_column][vc_column width=”1/2″][vc_single_image image=”2788″ img_size=”full”][/vc_column][/vc_row]
URL:https://www.drphilministries.org/events-calendar/30th-special-anniversary-conference/
LOCATION:FL
END:VEVENT
BEGIN:VEVENT
DTSTART;TZID=UTC:20200927T000000
DTEND;TZID=UTC:20200927T000000
DTSTAMP:20260420T053354
CREATED:20200711T090506Z
LAST-MODIFIED:20200711T090506Z
UID:1783-1601164800-1601164800@www.drphilministries.org
SUMMARY:Ark Church\, West Palm Beach
DESCRIPTION:[vc_row content_placement=”middle”][vc_column width=”1/2″][vc_custom_heading text=”Please join Dr. Phil and the team for one of these life changing events in our ministry schedule of events.” font_container=”tag:p|font_size:26|text_align:left|color:%23000000″ use_theme_fonts=”yes” css=”.vc_custom_1594394512060{padding-bottom: 12px !important;}”][/vc_column][vc_column width=”1/2″][vc_single_image image=”1708″ img_size=”full”][/vc_column][/vc_row]
URL:https://www.drphilministries.org/events-calendar/ark-church-west-palm-beach/
LOCATION:FL
END:VEVENT
BEGIN:VEVENT
DTSTART;TZID=UTC:20200816T080000
DTEND;TZID=UTC:20200823T170000
DTSTAMP:20260420T053354
CREATED:20200711T090209Z
LAST-MODIFIED:20200711T090209Z
UID:1773-1597564800-1598202000@www.drphilministries.org
SUMMARY:Massachusetts Conference Waltham\, MA
DESCRIPTION:[vc_row content_placement=”middle”][vc_column width=”1/2″][vc_custom_heading text=”Please join Dr. Phil and the team for one of these life changing events in our ministry schedule of events.” font_container=”tag:p|font_size:26|text_align:left|color:%23000000″ use_theme_fonts=”yes” css=”.vc_custom_1594394512060{padding-bottom: 12px !important;}”][/vc_column][vc_column width=”1/2″][vc_single_image image=”1708″ img_size=”full”][/vc_column][/vc_row]
URL:https://www.drphilministries.org/events-calendar/massachusetts-conference-waltham-ma/
LOCATION:FL
END:VEVENT
BEGIN:VEVENT
DTSTART;TZID=UTC:20200803T080000
DTEND;TZID=UTC:20200808T170000
DTSTAMP:20260420T053354
CREATED:20200711T090118Z
LAST-MODIFIED:20200711T090118Z
UID:1763-1596441600-1596906000@www.drphilministries.org
SUMMARY:Online Experience: OLD TESTAMENT SURVEY
DESCRIPTION:[vc_row content_placement=”middle”][vc_column width=”1/2″][vc_custom_heading text=”Please join Dr. Phil and the team for one of these life changing events in our ministry schedule of events.” font_container=”tag:p|font_size:26|text_align:left|color:%23000000″ use_theme_fonts=”yes” css=”.vc_custom_1594394512060{padding-bottom: 12px !important;}”][/vc_column][vc_column width=”1/2″][vc_single_image image=”1708″ img_size=”full”][/vc_column][/vc_row]
URL:https://www.drphilministries.org/events-calendar/online-experience-old-testament-survey/
LOCATION:FL
END:VEVENT
BEGIN:VEVENT
DTSTART;TZID=UTC:20200727T080000
DTEND;TZID=UTC:20200802T170000
DTSTAMP:20260420T053354
CREATED:20200711T051849Z
LAST-MODIFIED:20200711T090123Z
UID:1703-1595836800-1596387600@www.drphilministries.org
SUMMARY:Online Experience: Hermeneutics 101
DESCRIPTION:[vc_row content_placement=”middle”][vc_column width=”1/2″][vc_custom_heading text=”Please join Dr. Phil and the team for one of these life changing events in our ministry schedule of events.” font_container=”tag:p|font_size:26|text_align:left|color:%23000000″ use_theme_fonts=”yes” css=”.vc_custom_1594394512060{padding-bottom: 12px !important;}”][/vc_column][vc_column width=”1/2″][vc_single_image image=”1708″ img_size=”full”][/vc_column][/vc_row]
URL:https://www.drphilministries.org/events-calendar/online-experience-hermeneutics-101/
LOCATION:FL
ORGANIZER;CN="Dr. Phil":MAILTO:drphil@leveluppartners.com
END:VEVENT
BEGIN:VEVENT
DTSTART;TZID=UTC:20200707T080000
DTEND;TZID=UTC:20200713T170000
DTSTAMP:20260420T053354
CREATED:20200711T052436Z
LAST-MODIFIED:20200711T052710Z
UID:1723-1594108800-1594659600@www.drphilministries.org
SUMMARY:HOMILETICS
DESCRIPTION:[vc_row content_placement=”middle” css=”.vc_custom_1592920950623{padding-top: 25px !important;padding-right: 10px !important;padding-bottom: 10px !important;padding-left: 10px !important;background-color: #0f6dad !important;}”][vc_column width=”3/4″][vc_column_text] \nThe Homiletics course is a hands on learning experience to help discover the art and science of impactful teaching & preaching of God’s word.\n[/vc_column_text][/vc_column][vc_column width=”1/4″][vc_empty_space height=”5″][vc_btn title=”Register Now” style=”flat” shape=”square” color=”black” size=”lg” i_icon_fontawesome=”fa fa-star-o” add_icon=”true” link=”url:https%3A%2F%2Fwww.eventbrite.com%2Fe%2Fhomiletics-tickets-110396059586%3Faff%3Debdssbonlinesearch|||”][/vc_column][/vc_row][vc_row css=”.vc_custom_1592921028651{margin-top: 45px !important;}”][vc_column width=”1/3″][vc_custom_heading text=”About this Event” font_container=”tag:p|font_size:40|text_align:left|color:%23000000″ use_theme_fonts=”yes”][vc_column_text css=”.vc_custom_1592921800793{padding-bottom: 25px !important;}”]The Homiletics course is designed to equip you with the necessary tools to enable more effective communication. It is a hands on learning experience that will help you discover the art and science of impactful teaching and preaching of God’s word. \n‣ 7-day online course\n‣ Every night at 7:30pm\n‣ Only 40 slots available\n‣ Registration $65/person[/vc_column_text][vc_btn title=”Register Now” style=”flat” shape=”square” color=”black” size=”lg” i_icon_fontawesome=”fa fa-star-o” add_icon=”true” link=”url:https%3A%2F%2Fwww.eventbrite.com%2Fe%2Fhomiletics-tickets-110396059586%3Faff%3Debdssbonlinesearch|||”][vc_empty_space][/vc_column][vc_column width=”2/3″][vc_single_image image=”1728″ img_size=”full” alignment=”center” onclick=”link_image”][/vc_column][/vc_row]
URL:https://www.drphilministries.org/events-calendar/homiletics/
LOCATION:FL
ATTACH;FMTTYPE=image/jpeg:https://www.drphilministries.org/wp-content/uploads/2020/07/homiletics.jpg
ORGANIZER;CN="Dr. Phil":MAILTO:drphil@leveluppartners.com
END:VEVENT
END:VCALENDAR